BEGIN:VCALENDAR
VERSION:2.0
PRODID:-//Eastern Placer Future - ECPv6.15.20//NONSGML v1.0//EN
CALSCALE:GREGORIAN
METHOD:PUBLISH
X-WR-CALNAME:Eastern Placer Future
X-ORIGINAL-URL:https://easternplacerfuture.org
X-WR-CALDESC:Events for Eastern Placer Future
REFRESH-INTERVAL;VALUE=DURATION:PT1H
X-Robots-Tag:noindex
X-PUBLISHED-TTL:PT1H
BEGIN:VTIMEZONE
TZID:America/Los_Angeles
BEGIN:DAYLIGHT
TZOFFSETFROM:-0800
TZOFFSETTO:-0700
TZNAME:PDT
DTSTART:20240310T100000
END:DAYLIGHT
BEGIN:STANDARD
TZOFFSETFROM:-0700
TZOFFSETTO:-0800
TZNAME:PST
DTSTART:20241103T090000
END:STANDARD
BEGIN:DAYLIGHT
TZOFFSETFROM:-0800
TZOFFSETTO:-0700
TZNAME:PDT
DTSTART:20250309T100000
END:DAYLIGHT
BEGIN:STANDARD
TZOFFSETFROM:-0700
TZOFFSETTO:-0800
TZNAME:PST
DTSTART:20251102T090000
END:STANDARD
BEGIN:DAYLIGHT
TZOFFSETFROM:-0800
TZOFFSETTO:-0700
TZNAME:PDT
DTSTART:20260308T100000
END:DAYLIGHT
BEGIN:STANDARD
TZOFFSETFROM:-0700
TZOFFSETTO:-0800
TZNAME:PST
DTSTART:20261101T090000
END:STANDARD
END:VTIMEZONE
BEGIN:VEVENT
DTSTART;TZID=America/Los_Angeles:20251119T090000
DTEND;TZID=America/Los_Angeles:20251119T100000
DTSTAMP:20260420T005623
CREATED:20251103T212134Z
LAST-MODIFIED:20251106T004819Z
UID:780-1763542800-1763546400@easternplacerfuture.org
SUMMARY:Eastern Placer Future Presentation at Northstar Community Services District Board Meeting
DESCRIPTION:Join Eastern Placer Future at the Northstar Community Services District Board Meeting for an informational presentation and discussion on the potential incorporation of North Lake Tahoe.
URL:https://easternplacerfuture.org/event/northstar-presentation-board-meeting/
LOCATION:Northstar Community Services District Offices\, 910 Northstar Drive\, Truckee\, CA\, 96161
CATEGORIES:Community Compass
ATTACH;FMTTYPE=image/jpeg:https://easternplacerfuture.org/wp-content/uploads/2025/11/Artboard-1.jpg
END:VEVENT
BEGIN:VEVENT
DTSTART;TZID=America/Los_Angeles:20250912T090000
DTEND;TZID=America/Los_Angeles:20250912T100000
DTSTAMP:20260420T005623
CREATED:20250903T184419Z
LAST-MODIFIED:20250903T184419Z
UID:491-1757667600-1757671200@easternplacerfuture.org
SUMMARY:Alpine Springs County Water District Board Meeting
DESCRIPTION:Join Eastern Placer Future at the Alpine Springs County Water District Board meeting. This public session offers community members an opportunity to learn about local water district priorities\, hear updates on services\, and understand how regional governance discussions connect to the broader future of North Lake Tahoe.
URL:https://easternplacerfuture.org/event/alpine-springs-county-water-district-board-meeting/
LOCATION:Alpine Springs County Water District Office\, 270 Alpine Meadows Rd\, Alpine Meadows\, CA\, 96146\, United States
CATEGORIES:Community Compass
ATTACH;FMTTYPE=image/jpeg:https://easternplacerfuture.org/wp-content/uploads/2025/09/ChatGPT-Image-Sep-3-2025-11_42_34-AM.jpg
END:VEVENT
BEGIN:VEVENT
DTSTART;TZID=America/Los_Angeles:20250905T180000
DTEND;TZID=America/Los_Angeles:20250905T190000
DTSTAMP:20260420T005623
CREATED:20250903T184008Z
LAST-MODIFIED:20250903T185513Z
UID:488-1757095200-1757098800@easternplacerfuture.org
SUMMARY:Community Zoom Presentation on Incorporation
DESCRIPTION:Join Eastern Placer Future for a virtual community presentation on Zoom\, where we’ll share an overview of the incorporation exploration and answer your questions in real time. This session includes a slideshow presentation and Q&A\, offering residents an opportunity to learn more and engage directly with the process. \nRegister here to attend: Zoom Registration Link
URL:https://easternplacerfuture.org/event/community-zoom-presentation-on-incorporation/
LOCATION:CA
CATEGORIES:Community Compass
ATTACH;FMTTYPE=image/jpeg:https://easternplacerfuture.org/wp-content/uploads/2025/09/ChatGPT-Image-Sep-3-2025-11_39_26-AM-1.jpg
END:VEVENT
BEGIN:VEVENT
DTSTART;TZID=America/Los_Angeles:20250904T080000
DTEND;TZID=America/Los_Angeles:20250904T100000
DTSTAMP:20260420T005623
CREATED:20250903T183651Z
LAST-MODIFIED:20250903T183651Z
UID:485-1756972800-1756980000@easternplacerfuture.org
SUMMARY:Truckee-North Tahoe Transportation Management Association Board Meeting
DESCRIPTION:Join Eastern Placer Future at the Truckee-North Tahoe Transportation Management Association Board meeting. This public meeting is an opportunity to stay informed about transportation priorities and initiatives in the Truckee–North Tahoe region. Learn about ongoing efforts\, share your input\, and understand how transportation planning connects to broader conversations about governance\, services\, and the future of North Lake Tahoe.
URL:https://easternplacerfuture.org/event/truckee-north-tahoe-transportation-management-association-board-meeting/
LOCATION:Truckee Town Hall\, 10183 Truckee Airport Rd\, Truckee\, CA\, 96161\, United States
CATEGORIES:Community Compass
ATTACH;FMTTYPE=image/jpeg:https://easternplacerfuture.org/wp-content/uploads/2025/09/ChatGPT-Image-Sep-3-2025-11_35_47-AM.jpg
END:VEVENT
BEGIN:VEVENT
DTSTART;TZID=America/Los_Angeles:20250819T080000
DTEND;TZID=America/Los_Angeles:20250819T093000
DTSTAMP:20260420T005623
CREATED:20250725T171254Z
LAST-MODIFIED:20250806T211640Z
UID:443-1755590400-1755595800@easternplacerfuture.org
SUMMARY:Good Morning Truckee: Community Compass Forum 8/19
DESCRIPTION:Date/Time: Tuesday\, August 19\, 2025 | 8amLocation: Tahoe Truckee Airport Community Room\, 10356 Truckee Airport Rd\, Truckee\, CA \nDescription:Join Eastern Placer Future for an engaging community forum and Q&A about the potential for incorporation in North Lake Tahoe. This event is open to the public and designed to share information\, answer questions\, and gather community feedback about what local control could mean for services\, governance\, and the region’s future. \nTopics of conversation include: \n\nWhat is incorporation?\nPublic services + governance\nCommunity boundaries and population\nTax implications and fiscal feasibility\nNext steps\n\nFor more information\, visit easternplacerfuture.org.
URL:https://easternplacerfuture.org/event/good-morning-truckee-community-compass-forum-8-19/
LOCATION:Tahoe Truckee Airport Community Room\, 10356 Truckee Airport Rd\, Truckee\, CA\, 96161\, United States
CATEGORIES:Community Compass
ATTACH;FMTTYPE=image/png:https://easternplacerfuture.org/wp-content/uploads/2025/04/EPF-logo_landscape.png
END:VEVENT
BEGIN:VEVENT
DTSTART;TZID=America/Los_Angeles:20250528T173000
DTEND;TZID=America/Los_Angeles:20250528T193000
DTSTAMP:20260420T005623
CREATED:20250514T200327Z
LAST-MODIFIED:20250514T231000Z
UID:293-1748453400-1748460600@easternplacerfuture.org
SUMMARY:Community Compass:  A community forum on North Lake Tahoe Incorporation for the Alpine Meadows and Olympic Valley areas
DESCRIPTION:A presentation and Q&A from Eastern Placer Future on the exploration of the incorporation of North Lake Tahoe for the Alpine Meadows and Olympic Valley areas. \nIf you cannot attend this event check the calendar for other opportunities at events\, gatherings\, and presentations. Or drop us a line to attend your gathering or event.
URL:https://easternplacerfuture.org/event/community-compass-a-community-forum-on-north-lake-tahoe-incorporation-for-the-alpine-meadows-and-olympic-valley-areas/
LOCATION:Olympic Valley Public Service District\, 305 Olympic Vly Rd\, Olympic Valley\, CA\, 96146\, United States
CATEGORIES:Community Compass
END:VEVENT
BEGIN:VEVENT
DTSTART;TZID=America/Los_Angeles:20250521T173000
DTEND;TZID=America/Los_Angeles:20250521T193000
DTSTAMP:20260420T005623
CREATED:20250514T195711Z
LAST-MODIFIED:20250515T163719Z
UID:288-1747848600-1747855800@easternplacerfuture.org
SUMMARY:Community Compass:  A community forum on North Lake Tahoe Incorporation for the Martis Valley and Northstar areas
DESCRIPTION:A presentation and Q&A from Eastern Placer Future on the exploration of the incorporation of North Lake Tahoe for the Martis Valley\, Northstar\, and Truckee areas. \nIf you cannot attend this event check the calendar for other opportunities at events\, gatherings\, and presentations. Or drop us a line to attend your gathering or event.
URL:https://easternplacerfuture.org/event/community-compass-martis-valley-and-northstar/
LOCATION:Tahoe Truckee Airport Community Room\, 10356 Truckee Airport Rd\, Truckee\, CA\, 96161\, United States
CATEGORIES:Community Compass
END:VEVENT
END:VCALENDAR