BEGIN:VCALENDAR
VERSION:2.0
PRODID:-//Eastern Placer Future - ECPv6.15.20//NONSGML v1.0//EN
CALSCALE:GREGORIAN
METHOD:PUBLISH
X-WR-CALNAME:Eastern Placer Future
X-ORIGINAL-URL:https://easternplacerfuture.org
X-WR-CALDESC:Events for Eastern Placer Future
REFRESH-INTERVAL;VALUE=DURATION:PT1H
X-Robots-Tag:noindex
X-PUBLISHED-TTL:PT1H
BEGIN:VTIMEZONE
TZID:America/Los_Angeles
BEGIN:DAYLIGHT
TZOFFSETFROM:-0800
TZOFFSETTO:-0700
TZNAME:PDT
DTSTART:20240310T100000
END:DAYLIGHT
BEGIN:STANDARD
TZOFFSETFROM:-0700
TZOFFSETTO:-0800
TZNAME:PST
DTSTART:20241103T090000
END:STANDARD
BEGIN:DAYLIGHT
TZOFFSETFROM:-0800
TZOFFSETTO:-0700
TZNAME:PDT
DTSTART:20250309T100000
END:DAYLIGHT
BEGIN:STANDARD
TZOFFSETFROM:-0700
TZOFFSETTO:-0800
TZNAME:PST
DTSTART:20251102T090000
END:STANDARD
BEGIN:DAYLIGHT
TZOFFSETFROM:-0800
TZOFFSETTO:-0700
TZNAME:PDT
DTSTART:20260308T100000
END:DAYLIGHT
BEGIN:STANDARD
TZOFFSETFROM:-0700
TZOFFSETTO:-0800
TZNAME:PST
DTSTART:20261101T090000
END:STANDARD
END:VTIMEZONE
BEGIN:VEVENT
DTSTART;TZID=America/Los_Angeles:20251024T133000
DTEND;TZID=America/Los_Angeles:20251024T170000
DTSTAMP:20260420T004945
CREATED:20251021T211431Z
LAST-MODIFIED:20251021T211431Z
UID:759-1761312600-1761325200@easternplacerfuture.org
SUMMARY:Petition Party at Homewood Dockside Market — Friday\, October 24\, 1:30–5 PM
DESCRIPTION:Join Heidi at Homewood Dockside Market to sign the official incorporation petition and help bring local control to North Tahoe. Stop by between 1:30 and 5 PM to add your signature and support the effort to get our town on the ballot. It’s fast\, friendly\, and impactful — every signature moves us one step closer to shaping Tahoe’s future together.
URL:https://easternplacerfuture.org/event/petition-party-at-homewood-dockside-market-friday-october-24-130-5-pm/
LOCATION:Homewood Dockside Market\, 5190 W Lake Blvd\, Homewood\, 96141
CATEGORIES:Petition Party
ATTACH;FMTTYPE=image/jpeg:https://easternplacerfuture.org/wp-content/uploads/2025/09/petition-party-oct14-e1759959659765.jpg
END:VEVENT
BEGIN:VEVENT
DTSTART;TZID=America/Los_Angeles:20251024T130000
DTEND;TZID=America/Los_Angeles:20251024T160000
DTSTAMP:20260420T004945
CREATED:20251021T205801Z
LAST-MODIFIED:20251021T205801Z
UID:733-1761310800-1761321600@easternplacerfuture.org
SUMMARY:Petition Party at Tahoe City Post Office — Friday\, October 24\, 1–4 PM
DESCRIPTION:Make your afternoon count for North Tahoe. Stop by the Tahoe City Post Office to sign the official incorporation petition and help put local control on the ballot. It only takes a minute\, but every signature moves us one step closer to forming our own town. Bring a friend\, sign together\, and be part of this exciting community effort to shape North Tahoe’s future.
URL:https://easternplacerfuture.org/event/petition-party-at-tahoe-city-post-office-friday-october-24-1-4-pm/
LOCATION:Tahoe City Post Office\, 300 N Lake Blvd\, Tahoe City\, CA\, 96145\, United States
CATEGORIES:Petition Party
ATTACH;FMTTYPE=image/jpeg:https://easternplacerfuture.org/wp-content/uploads/2025/09/petition-party-oct14-e1759959659765.jpg
END:VEVENT
BEGIN:VEVENT
DTSTART;TZID=America/Los_Angeles:20251024T120000
DTEND;TZID=America/Los_Angeles:20251024T160000
DTSTAMP:20260420T004945
CREATED:20251021T211257Z
LAST-MODIFIED:20251021T211257Z
UID:757-1761307200-1761321600@easternplacerfuture.org
SUMMARY:Petition Party at Olympic Valley Post Office — Friday\, October 24\, 12–4 PM
DESCRIPTION:Join Bob C. at the Olympic Valley Post Office to sign the official incorporation petition and help bring local control to North Tahoe. Stop by between noon and 4 PM to add your name and be part of this exciting community effort. It’s quick\, meaningful\, and moves us one step closer to putting the question of forming our own town on the ballot. Every signature counts!
URL:https://easternplacerfuture.org/event/petition-party-at-olympic-valley-post-office-friday-october-24-12-4-pm/
LOCATION:Olympic Valley Post Office\, 1600 Olympic Vly Rd\, Olympic Valley\, 96146
CATEGORIES:Petition Party
ATTACH;FMTTYPE=image/jpeg:https://easternplacerfuture.org/wp-content/uploads/2025/09/petition-party-oct14-e1759959659765.jpg
END:VEVENT
BEGIN:VEVENT
DTSTART;TZID=America/Los_Angeles:20251024T120000
DTEND;TZID=America/Los_Angeles:20251024T140000
DTSTAMP:20260420T004945
CREATED:20251021T211732Z
LAST-MODIFIED:20251021T211732Z
UID:761-1761307200-1761314400@easternplacerfuture.org
SUMMARY:Petition Party at Carnelian Bay Post Office — Friday\, October 24\, 12–2 PM
DESCRIPTION:Join Joy at the Carnelian Bay Post Office to sign the official incorporation petition and help bring local control to North Tahoe. Stop by between noon and 2 PM to add your signature and be part of this exciting community milestone. It only takes a minute — and every signature moves us closer to putting the question of forming our own town on the ballot.
URL:https://easternplacerfuture.org/event/petition-party-at-carnelian-bay-post-office-friday-october-24-12-2-pm/
LOCATION:Carnelian Bay Post Office\, 526 N Lake Blvd\, Carnelian Bay\, CA\, 96140
CATEGORIES:Petition Party
ATTACH;FMTTYPE=image/jpeg:https://easternplacerfuture.org/wp-content/uploads/2025/09/petition-party-oct14-e1759959659765.jpg
END:VEVENT
BEGIN:VEVENT
DTSTART;TZID=America/Los_Angeles:20251023T150000
DTEND;TZID=America/Los_Angeles:20251023T180000
DTSTAMP:20260420T004945
CREATED:20251021T210702Z
LAST-MODIFIED:20251021T210702Z
UID:746-1761231600-1761242400@easternplacerfuture.org
SUMMARY:Petition Party at Tahoe Vista Post Office — Thursday\, October 23\, 3–6 PM
DESCRIPTION:Join Valerie at the Tahoe Vista Post Office to sign the official incorporation petition and help bring local control to North Tahoe. It’s quick\, easy\, and makes a real impact — your signature helps move us one step closer to putting the question of forming our own town on the ballot. Stop by between 3 and 6 PM to add your name and be part of this historic community effort.
URL:https://easternplacerfuture.org/event/petition-party-at-tahoe-vista-post-office-thursday-october-23-3-6-pm/
LOCATION:Tahoe Vista Post Office\, 7000 N Lake Blvd\, Tahoe Vista\, CA\, 96148
CATEGORIES:Petition Party
ATTACH;FMTTYPE=image/jpeg:https://easternplacerfuture.org/wp-content/uploads/2025/09/petition-party-oct14-e1759959659765.jpg
END:VEVENT
BEGIN:VEVENT
DTSTART;TZID=America/Los_Angeles:20251023T143000
DTEND;TZID=America/Los_Angeles:20251023T170000
DTSTAMP:20260420T004945
CREATED:20251021T210519Z
LAST-MODIFIED:20251021T210519Z
UID:744-1761229800-1761238800@easternplacerfuture.org
SUMMARY:Petition Party at Olympic Valley Post Office — Thursday\, October 23\, 2:30–5 PM
DESCRIPTION:Join David S. at the Olympic Valley Post Office to sign the official incorporation petition and help bring local control to North Tahoe. It only takes a minute\, but your signature moves us closer to getting the question of forming our own town on the ballot. Stop by between 2:30 and 5 PM to add your name and be part of this exciting community effort to shape Tahoe’s future.
URL:https://easternplacerfuture.org/event/petition-party-at-olympic-valley-post-office-thursday-october-23-230-5-pm/
LOCATION:Olympic Valley Post Office\, 1600 Olympic Vly Rd\, Olympic Valley\, 96146
CATEGORIES:Petition Party
ATTACH;FMTTYPE=image/jpeg:https://easternplacerfuture.org/wp-content/uploads/2025/09/petition-party-oct14-e1759959659765.jpg
END:VEVENT
BEGIN:VEVENT
DTSTART;TZID=America/Los_Angeles:20251023T133000
DTEND;TZID=America/Los_Angeles:20251023T153000
DTSTAMP:20260420T004945
CREATED:20251021T210820Z
LAST-MODIFIED:20251023T160522Z
UID:749-1761226200-1761233400@easternplacerfuture.org
SUMMARY:Petition Party at Homewood Dockside Market — Thursday\, October 23\, 3:30–7 PM
DESCRIPTION:Join Tee May at Homewood Dockside Market to sign the official incorporation petition and help bring local control to North Tahoe. Stop by between 1:30 and 3:30 PM to add your name and be part of this exciting community effort. It’s quick\, easy\, and meaningful — every signature helps move us one step closer to getting the question of forming our own town on the ballot.
URL:https://easternplacerfuture.org/event/petition-party-at-homewood-dockside-market-thursday-october-23-330-7-pm/
LOCATION:Homewood Dockside Market\, 5190 W Lake Blvd\, Homewood\, 96141
CATEGORIES:Petition Party
ATTACH;FMTTYPE=image/jpeg:https://easternplacerfuture.org/wp-content/uploads/2025/09/petition-party-oct14-e1759959659765.jpg
END:VEVENT
BEGIN:VEVENT
DTSTART;TZID=America/Los_Angeles:20251023T090000
DTEND;TZID=America/Los_Angeles:20251023T130000
DTSTAMP:20260420T004945
CREATED:20251021T211145Z
LAST-MODIFIED:20251021T211145Z
UID:754-1761210000-1761224400@easternplacerfuture.org
SUMMARY:Petition Party at Tahoe City Farmers Market — Thursday\, October 23\, 9 AM–1 PM
DESCRIPTION:Join Katie at the Tahoe City Farmers Market to sign the official incorporation petition and help bring local control to North Tahoe. While you shop for fresh\, local produce\, take a moment to add your signature and be part of this exciting community milestone. Every signature matters — and yours helps move us one step closer to getting our town on the ballot.
URL:https://easternplacerfuture.org/event/petition-party-at-tahoe-city-farmers-market-thursday-october-23-9-am-1-pm/
LOCATION:Tahoe City Farmers Market\, Commons Beach\, Tahoe City\, CA\, 96145
CATEGORIES:Petition Party
ATTACH;FMTTYPE=image/jpeg:https://easternplacerfuture.org/wp-content/uploads/2025/09/petition-party-oct14-e1759959659765.jpg
END:VEVENT
BEGIN:VEVENT
DTSTART;TZID=America/Los_Angeles:20251023T090000
DTEND;TZID=America/Los_Angeles:20251023T110000
DTSTAMP:20260420T004945
CREATED:20251021T211017Z
LAST-MODIFIED:20251021T211017Z
UID:751-1761210000-1761217200@easternplacerfuture.org
SUMMARY:Petition Party at Kings Beach Safeway — Thursday\, October 23\, 9–11 AM
DESCRIPTION:Join Kevin at Kings Beach Safeway to sign the official incorporation petition and help bring local control to North Tahoe. Stop by between 9 and 11 AM to add your name and be part of this important community moment. It only takes a minute\, but your signature moves us one step closer to getting the question of forming our own town on the ballot.
URL:https://easternplacerfuture.org/event/petition-party-at-kings-beach-safeway-thursday-october-23-9-11-am/
LOCATION:Safeway Kings Beach\, 7815 N Lake Blvd\, Kings Beach\, CA\, 96143
CATEGORIES:Petition Party
ATTACH;FMTTYPE=image/jpeg:https://easternplacerfuture.org/wp-content/uploads/2025/09/petition-party-oct14-e1759959659765.jpg
END:VEVENT
BEGIN:VEVENT
DTSTART;TZID=America/Los_Angeles:20251022T160000
DTEND;TZID=America/Los_Angeles:20251022T170000
DTSTAMP:20260420T004945
CREATED:20251021T205942Z
LAST-MODIFIED:20251021T205942Z
UID:736-1761148800-1761152400@easternplacerfuture.org
SUMMARY:Petition Party at Tahoe City Safeway — Wednesday\, October 22\, 4–5 PM
DESCRIPTION:Stop by Tahoe City Safeway and add your name to the official incorporation petition for North Tahoe. It’s fast\, easy\, and meaningful — your signature helps bring local control one step closer to the ballot. Look for the Eastern Placer Future team near the entrance between 4 and 5 PM and be part of this exciting community movement.
URL:https://easternplacerfuture.org/event/petition-party-at-tahoe-city-safeway-wednesday-october-22-4-5-pm/
LOCATION:Safeway Tahoe City\, 100 W River Rd\, Tahoe City\, 96145\, United States
CATEGORIES:Petition Party
ATTACH;FMTTYPE=image/jpeg:https://easternplacerfuture.org/wp-content/uploads/2025/09/petition-party-oct14-e1759959659765.jpg
END:VEVENT
BEGIN:VEVENT
DTSTART;TZID=America/Los_Angeles:20251022T130000
DTEND;TZID=America/Los_Angeles:20251022T160000
DTSTAMP:20260420T004945
CREATED:20251021T205204Z
LAST-MODIFIED:20251021T205204Z
UID:725-1761138000-1761148800@easternplacerfuture.org
SUMMARY:Petition Party at Kings Beach Post Office
DESCRIPTION:Stop by the Kings Beach Post Office to sign the official incorporation petition and help bring local control to North Tahoe. It’s quick\, easy\, and impactful — your signature helps move us one step closer to getting the question of forming our own town on the ballot. Join Eastern Placer Future between 1 and 4 PM and be part of this historic community effort.
URL:https://easternplacerfuture.org/event/petition-party-at-kings-beach-post-office/
LOCATION:Kings Beach Post Office\, 8693 N Lake Blvd\, Kings Beach\, 96143
CATEGORIES:Petition Party
ATTACH;FMTTYPE=image/jpeg:https://easternplacerfuture.org/wp-content/uploads/2025/09/petition-party-oct14-e1759959659765.jpg
END:VEVENT
BEGIN:VEVENT
DTSTART;TZID=America/Los_Angeles:20251022T110000
DTEND;TZID=America/Los_Angeles:20251022T170000
DTSTAMP:20260420T004945
CREATED:20251021T205455Z
LAST-MODIFIED:20251021T205455Z
UID:731-1761130800-1761152400@easternplacerfuture.org
SUMMARY:Petition Party at Tahoe City Post Office
DESCRIPTION:Help make history in the heart of Tahoe City! Stop by the Post Office between 11 and 5 to sign the official incorporation petition and show your support for bringing local control to North Tahoe. It only takes a minute to sign\, but your signature makes a lasting impact. Join Eastern Placer Future and your neighbors to help get this measure on the ballot and shape Tahoe’s future together.
URL:https://easternplacerfuture.org/event/petition-party-at-tahoe-city-post-office-2/
LOCATION:Tahoe City Post Office\, 300 N Lake Blvd\, Tahoe City\, CA\, 96145\, United States
CATEGORIES:Petition Party
ATTACH;FMTTYPE=image/jpeg:https://easternplacerfuture.org/wp-content/uploads/2025/09/petition-party-oct14-e1759959659765.jpg
END:VEVENT
BEGIN:VEVENT
DTSTART;TZID=America/Los_Angeles:20251022T110000
DTEND;TZID=America/Los_Angeles:20251022T140000
DTSTAMP:20260420T004945
CREATED:20251021T205337Z
LAST-MODIFIED:20251021T205337Z
UID:728-1761130800-1761141600@easternplacerfuture.org
SUMMARY:Petition Party at Homewood Dockside Market
DESCRIPTION:Swing by Homewood Dockside Market to sign the official incorporation petition and help shape North Tahoe’s future. While you grab lunch or shop local\, take a minute to add your name and support bringing local control to the ballot. Every signature counts — join Eastern Placer Future between 11 and 2 to be part of this exciting community effort.
URL:https://easternplacerfuture.org/event/petition-party-at-homewood-dockside-market/
LOCATION:Homewood Dockside Market\, 5190 W Lake Blvd\, Homewood\, 96141
CATEGORIES:Petition Party
ATTACH;FMTTYPE=image/jpeg:https://easternplacerfuture.org/wp-content/uploads/2025/09/petition-party-oct14-e1759959659765.jpg
END:VEVENT
BEGIN:VEVENT
DTSTART;TZID=America/Los_Angeles:20251022T090000
DTEND;TZID=America/Los_Angeles:20251022T120000
DTSTAMP:20260420T004945
CREATED:20251021T205020Z
LAST-MODIFIED:20251021T205020Z
UID:722-1761123600-1761134400@easternplacerfuture.org
SUMMARY:Petition Party at Olympic Valley Post Office
DESCRIPTION:Grab your morning mail and make history! Stop by the Olympic Valley Post Office to sign the official incorporation petition and help bring local control to North Tahoe. Every signature moves us closer to qualifying for the ballot — and it only takes a minute. Join Eastern Placer Future between 9 and noon to be part of shaping our community’s future.
URL:https://easternplacerfuture.org/event/petition-party-at-olympic-valley-post-office/
LOCATION:Olympic Valley Post Office\, 1600 Olympic Vly Rd\, Olympic Valley\, 96146
CATEGORIES:Petition Party
ATTACH;FMTTYPE=image/jpeg:https://easternplacerfuture.org/wp-content/uploads/2025/09/petition-party-oct14-e1759959659765.jpg
END:VEVENT
BEGIN:VEVENT
DTSTART;TZID=America/Los_Angeles:20251022T090000
DTEND;TZID=America/Los_Angeles:20251022T110000
DTSTAMP:20260420T004945
CREATED:20251021T210203Z
LAST-MODIFIED:20251021T210340Z
UID:735-1761123600-1761130800@easternplacerfuture.org
SUMMARY:Petition Party at Kings Beach Safeway — Wednesday\, October 22\, 9–11 AM
DESCRIPTION:Make your morning count for North Tahoe! Stop by Kings Beach Safeway to sign the official incorporation petition and help bring local control to the ballot. It’s quick\, easy\, and important — your signature helps move us one step closer to forming our own town. Look for the Eastern Placer Future table near the entrance between 9 and 11 AM. Every signature matters!
URL:https://easternplacerfuture.org/event/petition-party-at-kings-beach-safeway-wednesday-october-22-9-11-am/
LOCATION:Tahoe City Post Office\, 300 N Lake Blvd\, Tahoe City\, CA\, 96145\, United States
CATEGORIES:Petition Party
ATTACH;FMTTYPE=image/jpeg:https://easternplacerfuture.org/wp-content/uploads/2025/09/petition-party-oct14-e1759959659765.jpg
END:VEVENT
BEGIN:VEVENT
DTSTART;TZID=America/Los_Angeles:20251021T140000
DTEND;TZID=America/Los_Angeles:20251021T170000
DTSTAMP:20260420T004945
CREATED:20251021T204748Z
LAST-MODIFIED:20251021T204748Z
UID:719-1761055200-1761066000@easternplacerfuture.org
SUMMARY:Petition Party at Tahoe City Safeway
DESCRIPTION:Make your grocery run count! Stop by the Tahoe City Safeway to sign the official incorporation petition and help move North Tahoe one step closer to local control. Look for the Eastern Placer Future table near the entrance between 2 and 5 PM. It only takes a moment to sign — and your signature makes a lasting impact on the future of our community.
URL:https://easternplacerfuture.org/event/petition-party-at-tahoe-city-safeway/
LOCATION:Safeway Tahoe City\, 100 W River Rd\, Tahoe City\, 96145\, United States
CATEGORIES:Petition Party
ATTACH;FMTTYPE=image/jpeg:https://easternplacerfuture.org/wp-content/uploads/2025/09/petition-party-oct14-e1759959659765.jpg
END:VEVENT
BEGIN:VEVENT
DTSTART;TZID=America/Los_Angeles:20251021T140000
DTEND;TZID=America/Los_Angeles:20251021T170000
DTSTAMP:20260420T004945
CREATED:20251021T204420Z
LAST-MODIFIED:20251021T204420Z
UID:716-1761055200-1761066000@easternplacerfuture.org
SUMMARY:Petition Party at Tahoe City Post Office
DESCRIPTION:Stop by the Tahoe City Post Office to sign the official incorporation petition and help bring local control to North Tahoe. It only takes a minute\, but your signature helps move us one step closer to qualifying for the ballot. Look for the Eastern Placer Future table out front between 2 and 5 PM — bring a friend\, sign together\, and be part of shaping Tahoe’s future.
URL:https://easternplacerfuture.org/event/petition-party-at-tahoe-city-post-office/
LOCATION:Tahoe City Post Office\, 300 N Lake Blvd\, Tahoe City\, CA\, 96145\, United States
CATEGORIES:Petition Party
ATTACH;FMTTYPE=image/jpeg:https://easternplacerfuture.org/wp-content/uploads/2025/09/petition-party-oct14-e1759959659765.jpg
END:VEVENT
BEGIN:VEVENT
DTSTART;TZID=America/Los_Angeles:20251014T160000
DTEND;TZID=America/Los_Angeles:20251014T190000
DTSTAMP:20260420T004945
CREATED:20250915T190526Z
LAST-MODIFIED:20251008T214248Z
UID:595-1760457600-1760468400@easternplacerfuture.org
SUMMARY:Petition Party at Tremigo
DESCRIPTION:Let’s raise a glass to North Tahoe’s future! Join us at the Tremigo Mexican Kitchen & Tequila Bar in Palisades to sign the incorporation petition and help put the question of forming our own town on the ballot. Every signature counts—and this is your chance to make history with your neighbors. Come enjoy tasty Mexican food\, margaritas\, beer\, cocktails and connect with friends\, and add your name to the movement for local control. Together\, we can shape the future of our community.
URL:https://easternplacerfuture.org/event/petition-party-at-tremigo/
LOCATION:Tremigo\, 1850 Village South Rd Suite #52\, Olympic Valley\, 96146\, United States
CATEGORIES:Petition Party
ATTACH;FMTTYPE=image/jpeg:https://easternplacerfuture.org/wp-content/uploads/2025/09/petition-party-oct14-e1759959659765.jpg
END:VEVENT
BEGIN:VEVENT
DTSTART;TZID=America/Los_Angeles:20251012T110000
DTEND;TZID=America/Los_Angeles:20251012T170000
DTSTAMP:20260420T004945
CREATED:20251001T214823Z
LAST-MODIFIED:20251001T214823Z
UID:624-1760266800-1760288400@easternplacerfuture.org
SUMMARY:Petition Party at Made in Tahoe Festival
DESCRIPTION:North Tahoe\, this is our chance to shine! Visit the Eastern Placer Future table at the Made in Tahoe Festival to sign the official incorporation petition and be part of history in the making. With over 100 local vendors\, food\, music\, and community spirit\, Made in Tahoe is the perfect place to gather with neighbors and take action. Every signature matters — and yours helps bring local control one step closer to the ballot. Stop by\, sign\, and celebrate Tahoe’s unique mountain culture!
URL:https://easternplacerfuture.org/event/petition-party-made-in-tahoe-fest-oct-12/
LOCATION:The Village at Palisades Tahoe\, 1960 Olympic Vly Rd\, Olympic Valley\, CA\, 96146\, United States
CATEGORIES:Petition Party
ATTACH;FMTTYPE=image/jpeg:https://easternplacerfuture.org/wp-content/uploads/2025/10/Made-in-tahoe-oct-12.jpg
END:VEVENT
BEGIN:VEVENT
DTSTART;TZID=America/Los_Angeles:20251011T110000
DTEND;TZID=America/Los_Angeles:20251011T170000
DTSTAMP:20260420T004945
CREATED:20251001T214415Z
LAST-MODIFIED:20251001T214415Z
UID:620-1760180400-1760202000@easternplacerfuture.org
SUMMARY:Petition Party at Made in Tahoe Festival
DESCRIPTION:North Tahoe\, this is our chance to shine! Visit the Eastern Placer Future table at the Made in Tahoe Festival to sign the official incorporation petition and be part of history in the making. With over 100 local vendors\, food\, music\, and community spirit\, Made in Tahoe is the perfect place to gather with neighbors and take action. Every signature matters — and yours helps bring local control one step closer to the ballot. Stop by\, sign\, and celebrate Tahoe’s unique mountain culture!
URL:https://easternplacerfuture.org/event/petition-party-made-in-tahoe-fest-oct-11/
LOCATION:The Village at Palisades Tahoe\, 1960 Olympic Vly Rd\, Olympic Valley\, CA\, 96146\, United States
CATEGORIES:Petition Party
ATTACH;FMTTYPE=image/jpeg:https://easternplacerfuture.org/wp-content/uploads/2025/10/Made-in-tahoe-oct-11.jpg
END:VEVENT
BEGIN:VEVENT
DTSTART;TZID=America/Los_Angeles:20251003T150000
DTEND;TZID=America/Los_Angeles:20251003T210000
DTSTAMP:20260420T004945
CREATED:20250917T012200Z
LAST-MODIFIED:20250926T163740Z
UID:599-1759503600-1759525200@easternplacerfuture.org
SUMMARY:Petition Party at Beartoberfest — Tahoe Backyard
DESCRIPTION:Raise a glass and make history! Beartoberfest at Tahoe Backyard is the perfect time to enjoy local craft beer\, German-style food\, and live music — and also add your name to the incorporation petition. While you’re celebrating with Bear Belly Brewing Co.\, Lumbre\, and Dulce Gula\, take a few minutes to sign and help bring the question of local control to the ballot. Your signature is a simple but powerful step toward shaping North Tahoe’s future. Entry is free — bring your friends\, enjoy the party\, and be part of the movement!
URL:https://easternplacerfuture.org/event/petition-party-beartoberfest-tahoe-backyard-oct-3-2025/
LOCATION:Tahoe Backyard\, 8428 Trout Ave.\, Kings Beach\, CA\, 96143
CATEGORIES:Petition Party
ATTACH;FMTTYPE=image/jpeg:https://easternplacerfuture.org/wp-content/uploads/2025/09/beartoberfest.jpg
END:VEVENT
BEGIN:VEVENT
DTSTART;TZID=America/Los_Angeles:20250920T120000
DTEND;TZID=America/Los_Angeles:20250920T170000
DTSTAMP:20260420T004945
CREATED:20250903T185120Z
LAST-MODIFIED:20250910T200844Z
UID:496-1758369600-1758387600@easternplacerfuture.org
SUMMARY:Tahoe City Oktoberfest
DESCRIPTION:Come look for Eastern Placer Future at Oktoberfest and sign the petition!\nLet’s celebrate fall in Tahoe City at the annual Oktoberfest\, a family-friendly community event featuring local craft beer\, traditional Bavarian food\, live music\, and games. It’s a chance to connect with neighbors\, enjoy the alpine setting\, and support Tahoe’s vibrant local culture.
URL:https://easternplacerfuture.org/event/tahoe-city-oktoberfest/
LOCATION:Tahoe City\, Tahoe City\, CA\, 96145\, United States
CATEGORIES:Petition Party
ATTACH;FMTTYPE=image/jpeg:https://easternplacerfuture.org/wp-content/uploads/2025/09/ChatGPT-Image-Sep-3-2025-11_51_54-AM.jpg
END:VEVENT
BEGIN:VEVENT
DTSTART;TZID=America/Los_Angeles:20250919T160000
DTEND;TZID=America/Los_Angeles:20250919T190000
DTSTAMP:20260420T004945
CREATED:20250915T040626Z
LAST-MODIFIED:20250915T040626Z
UID:581-1758297600-1758308400@easternplacerfuture.org
SUMMARY:Petition Party at Tahoe Backyard
DESCRIPTION:North Tahoe\, the time is now! Come to the Tahoe Backyard to sign the official incorporation petition and move us closer to putting local control on the ballot. Every signature matters—add yours and help make history. Enjoy the vibrant Tahoe Backyard setting\, connect with friends and neighbors\, and be part of this exciting step toward shaping our community’s future.
URL:https://easternplacerfuture.org/event/petition-party-at-tahoe-backyard/
LOCATION:Tahoe Backyard\, 8428 Trout Ave.\, Kings Beach\, CA\, 96143
CATEGORIES:Petition Party
ATTACH;FMTTYPE=image/jpeg:https://easternplacerfuture.org/wp-content/uploads/2025/09/petition-party-tahoe-backyard.jpg
END:VEVENT
BEGIN:VEVENT
DTSTART;TZID=America/Los_Angeles:20250917T170000
DTEND;TZID=America/Los_Angeles:20250917T190000
DTSTAMP:20260420T004945
CREATED:20250915T040202Z
LAST-MODIFIED:20250915T040202Z
UID:577-1758128400-1758135600@easternplacerfuture.org
SUMMARY:Petition Party at Tahoe Tap Haus
DESCRIPTION:It’s time\, North Tahoe! After months of hard work\, our petition has been approved—and now every signature brings us closer to the chance to create our own town. Join us at Tahoe Tap Haus to sign the incorporation petition\, connect with neighbors\, and celebrate this exciting step forward. Grab a drink\, bring your friends\, and be part of the movement to put local control on the ballot. Your signature matters—let’s make history together!
URL:https://easternplacerfuture.org/event/petition-party-at-tahoe-tap-haus/
LOCATION:Tahoe Tap Haus\, 475 N Lake Blvd\, Tahoe City\, 96145\, United States
CATEGORIES:Petition Party
ATTACH;FMTTYPE=image/jpeg:https://easternplacerfuture.org/wp-content/uploads/2025/09/petition-party-tahoe-tap-haus.jpg
END:VEVENT
END:VCALENDAR