BEGIN:VCALENDAR
VERSION:2.0
PRODID:-//Eastern Placer Future - ECPv6.15.20//NONSGML v1.0//EN
CALSCALE:GREGORIAN
METHOD:PUBLISH
X-ORIGINAL-URL:https://easternplacerfuture.org
X-WR-CALDESC:Events for Eastern Placer Future
REFRESH-INTERVAL;VALUE=DURATION:PT1H
X-Robots-Tag:noindex
X-PUBLISHED-TTL:PT1H
BEGIN:VTIMEZONE
TZID:America/Los_Angeles
BEGIN:DAYLIGHT
TZOFFSETFROM:-0800
TZOFFSETTO:-0700
TZNAME:PDT
DTSTART:20240310T100000
END:DAYLIGHT
BEGIN:STANDARD
TZOFFSETFROM:-0700
TZOFFSETTO:-0800
TZNAME:PST
DTSTART:20241103T090000
END:STANDARD
BEGIN:DAYLIGHT
TZOFFSETFROM:-0800
TZOFFSETTO:-0700
TZNAME:PDT
DTSTART:20250309T100000
END:DAYLIGHT
BEGIN:STANDARD
TZOFFSETFROM:-0700
TZOFFSETTO:-0800
TZNAME:PST
DTSTART:20251102T090000
END:STANDARD
BEGIN:DAYLIGHT
TZOFFSETFROM:-0800
TZOFFSETTO:-0700
TZNAME:PDT
DTSTART:20260308T100000
END:DAYLIGHT
BEGIN:STANDARD
TZOFFSETFROM:-0700
TZOFFSETTO:-0800
TZNAME:PST
DTSTART:20261101T090000
END:STANDARD
END:VTIMEZONE
BEGIN:VEVENT
DTSTART;TZID=America/Los_Angeles:20250608T120000
DTEND;TZID=America/Los_Angeles:20250608T190000
DTSTAMP:20260424T021456
CREATED:20250528T184333Z
LAST-MODIFIED:20250528T184522Z
UID:369-1749384000-1749409200@easternplacerfuture.org
SUMMARY:Incorporation Station: Eastern Placer Future table at Tahoe Joy Festival '25
DESCRIPTION:Chat and ask questions with Eastern Placer Future Ambassadors at the Tahoe Joy Festival 25 \nShare your ideas and comments and engage in the exploration of incorporation. \n  \nIf you cannot attend this event check the calendar for other opportunities at events\, gatherings\, and presentations. Or drop us a line to attend your gathering or event.
URL:https://easternplacerfuture.org/event/incorporation-station-eastern-placer-future-table-at-tahoe-backyard-makers-market-2/
LOCATION:Commons Beach\, 400 N Lake Blvd\, Tahoe City\, CA\, 96145
CATEGORIES:Incorporation Station
END:VEVENT
BEGIN:VEVENT
DTSTART;TZID=America/Los_Angeles:20250603T120000
DTEND;TZID=America/Los_Angeles:20250603T130000
DTSTAMP:20260424T021456
CREATED:20250521T144700Z
LAST-MODIFIED:20250521T144700Z
UID:365-1748952000-1748955600@easternplacerfuture.org
SUMMARY:Town Talk:  A brief presentation on North Lake Tahoe Incorporation for the Rotary Club of Tahoe City
DESCRIPTION:A  brief presentation and Q&A from Eastern Placer Future on the exploration of the incorporation of North Lake Tahoe for the Rotary Club of Tahoe City \nIf you cannot attend this event check the calendar for other opportunities at events\, gatherings\, and presentations. Or drop us a line to attend your gathering or event.
URL:https://easternplacerfuture.org/event/town-talk-a-brief-presentation-on-north-lake-tahoe-incorporation-for-the-rotary-club-of-tahoe-city/
LOCATION:Rosie’s Cafe\, 571 N Lake Blvd\, Tahoe City\, CA\, 96145
CATEGORIES:Town Talk
END:VEVENT
BEGIN:VEVENT
DTSTART;TZID=America/Los_Angeles:20250528T173000
DTEND;TZID=America/Los_Angeles:20250528T193000
DTSTAMP:20260424T021456
CREATED:20250514T200327Z
LAST-MODIFIED:20250514T231000Z
UID:293-1748453400-1748460600@easternplacerfuture.org
SUMMARY:Community Compass:  A community forum on North Lake Tahoe Incorporation for the Alpine Meadows and Olympic Valley areas
DESCRIPTION:A presentation and Q&A from Eastern Placer Future on the exploration of the incorporation of North Lake Tahoe for the Alpine Meadows and Olympic Valley areas. \nIf you cannot attend this event check the calendar for other opportunities at events\, gatherings\, and presentations. Or drop us a line to attend your gathering or event.
URL:https://easternplacerfuture.org/event/community-compass-a-community-forum-on-north-lake-tahoe-incorporation-for-the-alpine-meadows-and-olympic-valley-areas/
LOCATION:Olympic Valley Public Service District\, 305 Olympic Vly Rd\, Olympic Valley\, CA\, 96146\, United States
CATEGORIES:Community Compass
END:VEVENT
BEGIN:VEVENT
DTSTART;TZID=America/Los_Angeles:20250522T173000
DTEND;TZID=America/Los_Angeles:20250522T193000
DTSTAMP:20260424T021456
CREATED:20250518T023545Z
LAST-MODIFIED:20250519T153600Z
UID:360-1747935000-1747942200@easternplacerfuture.org
SUMMARY:Town Talk: A discussion about North Lake Tahoe Incorporation at the Swiss Lakewood
DESCRIPTION:An informal discussion about the exploration of incorporation at the Swiss Lakewood Restaurant. \nIf you cannot attend this event check the calendar for other opportunities at events\, gatherings\, and presentations. Or drop us a line to attend your gathering or event.
URL:https://easternplacerfuture.org/event/town-talk-a-discussion-about-north-lake-tahoe-incorporation-at-the-swiss-lakewood/
LOCATION:The Swiss Lakewood\, 5055 W. Lake Blvd.\, Homewood\, CA\, 96141
CATEGORIES:Town Talk
END:VEVENT
BEGIN:VEVENT
DTSTART;TZID=America/Los_Angeles:20250521T173000
DTEND;TZID=America/Los_Angeles:20250521T193000
DTSTAMP:20260424T021456
CREATED:20250514T195711Z
LAST-MODIFIED:20250515T163719Z
UID:288-1747848600-1747855800@easternplacerfuture.org
SUMMARY:Community Compass:  A community forum on North Lake Tahoe Incorporation for the Martis Valley and Northstar areas
DESCRIPTION:A presentation and Q&A from Eastern Placer Future on the exploration of the incorporation of North Lake Tahoe for the Martis Valley\, Northstar\, and Truckee areas. \nIf you cannot attend this event check the calendar for other opportunities at events\, gatherings\, and presentations. Or drop us a line to attend your gathering or event.
URL:https://easternplacerfuture.org/event/community-compass-martis-valley-and-northstar/
LOCATION:Tahoe Truckee Airport Community Room\, 10356 Truckee Airport Rd\, Truckee\, CA\, 96161\, United States
CATEGORIES:Community Compass
END:VEVENT
BEGIN:VEVENT
DTSTART;TZID=America/Los_Angeles:20250521T080000
DTEND;TZID=America/Los_Angeles:20250521T090000
DTSTAMP:20260424T021456
CREATED:20250514T204502Z
LAST-MODIFIED:20250514T231139Z
UID:324-1747814400-1747818000@easternplacerfuture.org
SUMMARY:Town Talk:  A brief presentation on North Lake Tahoe Incorporation for the Tahoe City Downtown Association
DESCRIPTION:A  brief presentation and Q&A from Eastern Placer Future on the exploration of the incorporation of North Lake Tahoe for the Tahoe City  Downtown Association \nIf you cannot attend this event check the calendar for other opportunities at events\, gatherings\, and presentations. Or drop us a line to attend your gathering or event.
URL:https://easternplacerfuture.org/event/town-talk-a-brief-presentation-on-north-lake-tahoe-incorporation-for-the-tahoe-city-downtown-association/
LOCATION:Tahoe City Public Utility District\, 221 Fairway Dr\, Tahoe City\, Ca\, 96145\, United States
CATEGORIES:Town Talk
END:VEVENT
BEGIN:VEVENT
DTSTART;TZID=America/Los_Angeles:20250519T140000
DTEND;TZID=America/Los_Angeles:20250519T150000
DTSTAMP:20260424T021456
CREATED:20250514T204225Z
LAST-MODIFIED:20250514T231215Z
UID:320-1747663200-1747666800@easternplacerfuture.org
SUMMARY:Town Talk:  A brief presentation on North Lake Tahoe Incorporation for the Snow Sports Museum Board of Directors
DESCRIPTION:A  brief presentation and Q&A from Eastern Placer Future on the exploration of the incorporation of North Lake Tahoe for the  Snow Sports Museum Board of Directors. \nIf you cannot attend this event check the calendar for other opportunities at events\, gatherings\, and presentations. Or drop us a line to attend your gathering or event.
URL:https://easternplacerfuture.org/event/town-talk-a-brief-presentation-on-north-lake-tahoe-incorporation-for-the-snow-sports-museum-board-of-directors/
LOCATION:The Snow Sports Museum\, 760 N Lake Blvd\, Tahoe City\, CA\, 96143
CATEGORIES:Town Talk
END:VEVENT
BEGIN:VEVENT
DTSTART;TZID=America/Los_Angeles:20250516T080000
DTEND;TZID=America/Los_Angeles:20250516T090000
DTSTAMP:20260424T021456
CREATED:20250514T203525Z
LAST-MODIFIED:20250514T231604Z
UID:311-1747382400-1747386000@easternplacerfuture.org
SUMMARY:Town Talk:  A brief presentation on North Lake Tahoe Incorporation for the Tahoe City area
DESCRIPTION:A  brief presentation and Q&A from Eastern Placer Future on the exploration of the incorporation of North Lake Tahoe for the Tahoe City area. \nIf you cannot attend this event check the calendar for other opportunities at events\, gatherings\, and presentations. Or drop us a line to attend your gathering or event.
URL:https://easternplacerfuture.org/event/town-talk-a-brief-presentation-on-north-lake-tahoe-incorporation-for-the-tahoe-city-area/
LOCATION:Tahoe City Public Utility District\, 221 Fairway Dr\, Tahoe City\, Ca\, 96145\, United States
CATEGORIES:Town Talk
END:VEVENT
END:VCALENDAR